BEGIN:VCALENDAR
VERSION:2.0
PRODID:-//Les Galants Caprices - ECPv6.2.1//NONSGML v1.0//EN
CALSCALE:GREGORIAN
METHOD:PUBLISH
X-WR-CALNAME:Les Galants Caprices
X-ORIGINAL-URL:https://lesgalantscaprices.fr
X-WR-CALDESC:évènements pour Les Galants Caprices
REFRESH-INTERVAL;VALUE=DURATION:PT1H
X-Robots-Tag:noindex
X-PUBLISHED-TTL:PT1H
BEGIN:VTIMEZONE
TZID:Europe/Paris
BEGIN:DAYLIGHT
TZOFFSETFROM:+0100
TZOFFSETTO:+0200
TZNAME:CEST
DTSTART:20250330T010000
END:DAYLIGHT
BEGIN:STANDARD
TZOFFSETFROM:+0200
TZOFFSETTO:+0100
TZNAME:CET
DTSTART:20251026T010000
END:STANDARD
END:VTIMEZONE
BEGIN:VEVENT
DTSTART;TZID=Europe/Paris:20250927T203000
DTEND;TZID=Europe/Paris:20250927T220000
DTSTAMP:20260424T231004
CREATED:20250922T130301Z
LAST-MODIFIED:20250922T130301Z
UID:6840-1759005000-1759010400@lesgalantscaprices.fr
SUMMARY:La musique\, peinture des émotions
DESCRIPTION:Une projection nous entraîne au cœur des portraits de Greuze\, nous faisant visiter les moindres détails de ses chefs-d’œuvre. 3 musiciens interpréteront des pièces de caractère illustrant les émotions peintes. Une plongée au cœur de l’intimité de la peinture du peintre tournusien. \nŒuvres musicales de Marin Marais\, J-P Rameau\, Leclair\, Couperin … interprétées au traverso\, à la viole de gambe et au clavecin
URL:https://lesgalantscaprices.fr/event/la-musique-peinture-des-emotions/
LOCATION:église Saint Martin de Bey 01290\, Bey\, 01290
ORGANIZER;CN="Bey%20Arts":MAILTO:asso.bey.arts@gmail.com
END:VEVENT
END:VCALENDAR