BEGIN:VCALENDAR
VERSION:2.0
PRODID:-//Les Galants Caprices - ECPv6.2.1//NONSGML v1.0//EN
CALSCALE:GREGORIAN
METHOD:PUBLISH
X-WR-CALNAME:Les Galants Caprices
X-ORIGINAL-URL:https://lesgalantscaprices.fr
X-WR-CALDESC:évènements pour Les Galants Caprices
REFRESH-INTERVAL;VALUE=DURATION:PT1H
X-Robots-Tag:noindex
X-PUBLISHED-TTL:PT1H
BEGIN:VTIMEZONE
TZID:Europe/Paris
BEGIN:DAYLIGHT
TZOFFSETFROM:+0100
TZOFFSETTO:+0200
TZNAME:CEST
DTSTART:20260329T010000
END:DAYLIGHT
BEGIN:STANDARD
TZOFFSETFROM:+0200
TZOFFSETTO:+0100
TZNAME:CET
DTSTART:20261025T010000
END:STANDARD
END:VTIMEZONE
BEGIN:VEVENT
DTSTART;TZID=Europe/Paris:20260814T180000
DTEND;TZID=Europe/Paris:20260814T200000
DTSTAMP:20260424T155635
CREATED:20251201T145946Z
LAST-MODIFIED:20251201T145946Z
UID:7221-1786730400-1786737600@lesgalantscaprices.fr
SUMMARY:Bach\, Quelle famille !
DESCRIPTION:
URL:https://lesgalantscaprices.fr/event/bach-quelle-famille/
LOCATION:Tournus – Hôtel Dieu\, 21\, rue de l'Hôpital\,\, Tournus\, 71700\,\, France
END:VEVENT
END:VCALENDAR