BEGIN:VCALENDAR
VERSION:2.0
PRODID:-//Les Galants Caprices - ECPv6.2.1//NONSGML v1.0//EN
CALSCALE:GREGORIAN
METHOD:PUBLISH
X-ORIGINAL-URL:https://lesgalantscaprices.fr
X-WR-CALDESC:évènements pour Les Galants Caprices
REFRESH-INTERVAL;VALUE=DURATION:PT1H
X-Robots-Tag:noindex
X-PUBLISHED-TTL:PT1H
BEGIN:VTIMEZONE
TZID:Europe/Paris
BEGIN:DAYLIGHT
TZOFFSETFROM:+0100
TZOFFSETTO:+0200
TZNAME:CEST
DTSTART:20230326T010000
END:DAYLIGHT
BEGIN:STANDARD
TZOFFSETFROM:+0200
TZOFFSETTO:+0100
TZNAME:CET
DTSTART:20231029T010000
END:STANDARD
BEGIN:DAYLIGHT
TZOFFSETFROM:+0100
TZOFFSETTO:+0200
TZNAME:CEST
DTSTART:20240331T010000
END:DAYLIGHT
BEGIN:STANDARD
TZOFFSETFROM:+0200
TZOFFSETTO:+0100
TZNAME:CET
DTSTART:20241027T010000
END:STANDARD
BEGIN:DAYLIGHT
TZOFFSETFROM:+0100
TZOFFSETTO:+0200
TZNAME:CEST
DTSTART:20250330T010000
END:DAYLIGHT
BEGIN:STANDARD
TZOFFSETFROM:+0200
TZOFFSETTO:+0100
TZNAME:CET
DTSTART:20251026T010000
END:STANDARD
BEGIN:DAYLIGHT
TZOFFSETFROM:+0100
TZOFFSETTO:+0200
TZNAME:CEST
DTSTART:20260329T010000
END:DAYLIGHT
BEGIN:STANDARD
TZOFFSETFROM:+0200
TZOFFSETTO:+0100
TZNAME:CET
DTSTART:20261025T010000
END:STANDARD
END:VTIMEZONE
BEGIN:VEVENT
DTSTART;TZID=Europe/Paris:20251221T163000
DTEND;TZID=Europe/Paris:20251221T180000
DTSTAMP:20260424T095153
CREATED:20251201T145350Z
LAST-MODIFIED:20251201T145350Z
UID:7213-1766334600-1766340000@lesgalantscaprices.fr
SUMMARY:Un Noël au Salon des Lumières
DESCRIPTION:Sonates de JS Bach\, CPE Bach\, JJ Quantz\, JL Krebs\, Devienne\n Catherine Thinon flûte Virginie Pillot clavecin\n\nTemple de Chalon sur Saône\nLibre participation (recommandée 15€)
URL:https://lesgalantscaprices.fr/event/un-noel-au-salon-des-lumieres/
LOCATION:chalon sur saone Temple rue Carnot\, rue carnot\, chalon sur saone\, France
END:VEVENT
BEGIN:VEVENT
DTSTART;TZID=Europe/Paris:20251201T080000
DTEND;TZID=Europe/Paris:20260228T170000
DTSTAMP:20260424T095153
CREATED:20251201T145537Z
LAST-MODIFIED:20251201T145537Z
UID:7216-1764576000-1772298000@lesgalantscaprices.fr
SUMMARY:Préventes avantageuses
DESCRIPTION:
URL:https://lesgalantscaprices.fr/event/preventes-avantageuses/
END:VEVENT
BEGIN:VEVENT
DTSTART;TZID=Europe/Paris:20250927T203000
DTEND;TZID=Europe/Paris:20250927T220000
DTSTAMP:20260424T095153
CREATED:20250922T130301Z
LAST-MODIFIED:20250922T130301Z
UID:6840-1759005000-1759010400@lesgalantscaprices.fr
SUMMARY:La musique\, peinture des émotions
DESCRIPTION:Une projection nous entraîne au cœur des portraits de Greuze\, nous faisant visiter les moindres détails de ses chefs-d’œuvre. 3 musiciens interpréteront des pièces de caractère illustrant les émotions peintes. Une plongée au cœur de l’intimité de la peinture du peintre tournusien. \nŒuvres musicales de Marin Marais\, J-P Rameau\, Leclair\, Couperin … interprétées au traverso\, à la viole de gambe et au clavecin
URL:https://lesgalantscaprices.fr/event/la-musique-peinture-des-emotions/
LOCATION:église Saint Martin de Bey 01290\, Bey\, 01290
ORGANIZER;CN="Bey%20Arts":MAILTO:asso.bey.arts@gmail.com
END:VEVENT
BEGIN:VEVENT
DTSTART;TZID=Europe/Paris:20250824T160000
DTEND;TZID=Europe/Paris:20250824T173000
DTSTAMP:20260424T095153
CREATED:20250627T075341Z
LAST-MODIFIED:20250627T075341Z
UID:6113-1756051200-1756056600@lesgalantscaprices.fr
SUMMARY:Concert illustré "Quand Greuze tirait le portrait"
DESCRIPTION:Une projection nous entraîne au cœur des portraits de Greuze\, nous faisant visiter les moindres détails de ses chefs-d’œuvre. 3 musiciens interpréteront des pièces de caractère illustrant les émotions peintes. Une plongée au cœur de l’intimité de la peinture du peintre tournusien. \nOrganisé par les Galants Caprices et la ville de Tournus \n  \n15€ – gratuit pour les moins de 16 ans \nRéservation à l’Office du tourisme 03 85 27 00 20
URL:https://lesgalantscaprices.fr/event/concert-illustre-quand-greuze-tirait-le-portrait-2/
LOCATION:Tournus Hôtel Dieu – Salle des soldats
END:VEVENT
BEGIN:VEVENT
DTSTART;TZID=Europe/Paris:20250823T180000
DTEND;TZID=Europe/Paris:20250823T193000
DTSTAMP:20260424T095153
CREATED:20250627T075219Z
LAST-MODIFIED:20250627T075219Z
UID:6111-1755972000-1755977400@lesgalantscaprices.fr
SUMMARY:Concert illustré "Quand Greuze tirait le portrait"
DESCRIPTION:Une projection nous entraîne au cœur des portraits de Greuze\, nous faisant visiter les moindres détails de ses chefs-d’œuvre. 3 musiciens interpréteront des pièces de caractère illustrant les émotions peintes. Une plongée au cœur de l’intimité de la peinture du peintre tournusien. \nOrganisé par les Galants Caprices et la ville de Tournus \n  \n15€ – gratuit pour les moins de 16 ans \nRéservation à l’Office du tourisme 03 85 27 00 20
URL:https://lesgalantscaprices.fr/event/concert-illustre-quand-greuze-tirait-le-portrait/
LOCATION:Tournus Hôtel Dieu – Salle des soldats
END:VEVENT
BEGIN:VEVENT
DTSTART;TZID=Europe/Paris:20250704T203000
DTEND;TZID=Europe/Paris:20250704T220000
DTSTAMP:20260424T095153
CREATED:20250627T074722Z
LAST-MODIFIED:20250627T074722Z
UID:6104-1751661000-1751666400@lesgalantscaprices.fr
SUMMARY:Concert illustré "Le Quatuor des Lumières"
DESCRIPTION:4 musiciens réunis autour de chefs-d’œuvre de la musique du 17e siècle. Le concert sera animé par un diaporama des tableaux des maîtres de cette époque : Watteau\, Chardin\, Greuze\, Fragonard. Entre chaque pièce\, seront lus des extraits d’écrits de Rousseau et Diderot à propos de la musique\, de la peinture afin d’immerger le spectateur au cœur du contexte culturel dans lequel Greuze a créé et connu le succès. Organisé par la ville de Tournus \nRéservation Office du tourisme 03 85 27 00 20
URL:https://lesgalantscaprices.fr/event/concert-illustre-le-quatuor-des-lumieres/
LOCATION:Tournus Hôtel Dieu – Salle des soldats
END:VEVENT
BEGIN:VEVENT
DTSTART;TZID=Europe/Paris:20240518T210000
DTEND;TZID=Europe/Paris:20240518T223000
DTSTAMP:20260424T095153
CREATED:20240429T082126Z
LAST-MODIFIED:20240429T082126Z
UID:2094-1716066000-1716071400@lesgalantscaprices.fr
SUMMARY:Sonnerie Baroques
DESCRIPTION:Combiner des instruments a priori incompatibles pour les sublimer ? \n C’est bien l’objectif de ce programme original présentant des œuvres méconnues du tournant du XVIIIème siècle. Plutôt qu’une virtuosité brillante alliée à une écriture scientifique\, ces pièces galantes subliment le timbre de chaque instrument par l’élégance des mélodies et le raffinement de leurs accompagnements. Ces sonneries galantes annoncent les concertos classiques de Mozart. \n  \nSonneries Baroques \n \n 
URL:https://lesgalantscaprices.fr/event/sonnerie-baroques/
LOCATION:autun évêché
ORGANIZER;CN="Ex%20Cathedra":MAILTO:https://www.facebook.com/p/Festival-de-Pencte-musique-baroque-jazz-Ex-Cathedra-AUTUN-100054347406208/?paipv=0&amp;eav=Afb2C2LURpOq9Q7zU_ey1EMeoefj-aygVMtRIS4_PFQaWXxtK3MQQ2nqvMZZ94yS1To&amp;_rdr
END:VEVENT
BEGIN:VEVENT
DTSTART;TZID=Europe/Paris:20240428T170000
DTEND;TZID=Europe/Paris:20240428T170000
DTSTAMP:20260424T095153
CREATED:20240118T130455Z
LAST-MODIFIED:20240118T130744Z
UID:1292-1714323600-1714323600@lesgalantscaprices.fr
SUMMARY:Entre Bach et Mozart\, on ne badine pas avec la flûte !
DESCRIPTION:Programme
URL:https://lesgalantscaprices.fr/event/entre-bach-et-mozart-on-ne-badine-pas-avec-la-flute-2/
LOCATION:Nolay\, mairie\, Nolay
END:VEVENT
BEGIN:VEVENT
DTSTART;TZID=Europe/Paris:20240427T200000
DTEND;TZID=Europe/Paris:20240427T200000
DTSTAMP:20260424T095153
CREATED:20240118T130048Z
LAST-MODIFIED:20240118T130801Z
UID:1267-1714248000-1714248000@lesgalantscaprices.fr
SUMMARY:Entre Bach et Mozart\, on ne badine pas avec la flûte !
DESCRIPTION:Programme
URL:https://lesgalantscaprices.fr/event/entre-bach-et-mozart-on-ne-badine-pas-avec-la-flute/
LOCATION:Montcenis\, église\, église\, Montcenis
END:VEVENT
BEGIN:VEVENT
DTSTART;TZID=Europe/Paris:20231210T170000
DTEND;TZID=Europe/Paris:20231210T183000
DTSTAMP:20260424T095153
CREATED:20231110T135733Z
LAST-MODIFIED:20231110T135733Z
UID:999-1702227600-1702233000@lesgalantscaprices.fr
SUMMARY:Concert de Noël
DESCRIPTION:
URL:https://lesgalantscaprices.fr/event/concert-de-noel/
LOCATION:chalon sur saone Temple rue Carnot\, rue carnot\, chalon sur saone\, France
END:VEVENT
BEGIN:VEVENT
DTSTART;TZID=Europe/Paris:20231027T203000
DTEND;TZID=Europe/Paris:20231027T223000
DTSTAMP:20260424T095153
CREATED:20231020T073518Z
LAST-MODIFIED:20231020T073518Z
UID:924-1698438600-1698445800@lesgalantscaprices.fr
SUMMARY:Sonneries Baroques\, sortie de résidence
DESCRIPTION:L’ensemble Les Galants Caprices\, en résidence à la Turbine\, présentera son nouveau programme Sonneries Baroques\, en faisant sonner les cors\, flûtes et autres instruments dans l’église de Sampigny-lès-Maranges ! \nCombiner des instruments a priori incompatibles pour les sublimer ? C’est bien l’objectif de ce programme original présentant des œuvres méconnues du tournant du XVIIIème siècle. Plutôt qu’une virtuosité brillante alliée à une écriture scientifique\, ces pièces galantes subliment le timbre de chaque instrument par l’élégance des mélodies et le raffinement de leurs accompagnements. Ces sonneries galantes annoncent les concertos classiques de Mozart. Cette création est également l’occasion de tisser de nouveaux liens entre musiciens résidents en Bourgogne. L’ensemble accueillera pour la première fois deux cornistes\, Eric Villevière et Lucien Julien-Laferrière. Un nouveau caprice très galant à découvrir. \nProgramme\, qui sera peut-être remanié au cours de la résidence : \nConcertino en Ré M MWV 8.15 Johan Melchior Mölter\nQuartett Opus 8 II en Mib M\, Karl Stamitz\nSonate en Sol M\, Johann Pfeiffer\nConcerto TWV 42: F14 en Fa M\, Georg Philip Telemann\nSonate en Trio en Ré M Wilhelm Friedman Bach\nConcertino en Ré M MWV 8.11 Johan Melchior Mölter \n\n 
URL:https://lesgalantscaprices.fr/event/sonneries-baroques-sortie-de-residence/
LOCATION:sampigny les maranges\, église\, sampigny les maranges
END:VEVENT
BEGIN:VEVENT
DTSTART;TZID=Europe/Paris:20231021T190000
DTEND;TZID=Europe/Paris:20231021T220000
DTSTAMP:20260424T095153
CREATED:20231020T073129Z
LAST-MODIFIED:20231020T073129Z
UID:920-1697914800-1697925600@lesgalantscaprices.fr
SUMMARY:Soirée dégustation vins et musique
DESCRIPTION:Soirée dégustation vins et musique\nA la découverte des vins du couchois\nCatherine Thinon et Virginie Pillot auront sélectionné les meilleurs pièces du répertoire pour accompagner les meilleurs vins du terroirs couchois
URL:https://lesgalantscaprices.fr/event/soiree-degustation-vins-et-musique/
LOCATION:WINE O’CLOCK\, 8 Rue des Bancs\, AUTUN\, 71400
END:VEVENT
BEGIN:VEVENT
DTSTART;TZID=Europe/Paris:20230923T203000
DTEND;TZID=Europe/Paris:20230923T220000
DTSTAMP:20260424T095153
CREATED:20230823T161730Z
LAST-MODIFIED:20230911T073007Z
UID:572-1695501000-1695506400@lesgalantscaprices.fr
SUMMARY:Concert Sonneries Baroques
DESCRIPTION:Programme original présentant des pièces de musique de chambre alliant cor et flûte. Les sonorités contrastantes donnent relief et originalité à ce programme. Mölter\, compositeur allemand du 18e siècle\, d’esthétique galante mérite d’être redécouvert et mis en valeur. \n\n\n \n\n\n\n \nEffectif : 2 traversos\, 2 cors\, violoncelle\, clavecin \n\n\n \n\n\n\n \n-Quartett Opus 8 II en Mib M\, Karl Stamitz \n\n\n \n-Sonate en Sol M\, Johann Pfeiffer \n\n\n \n-Concerto TWV 42: F14 en Fa M\, Georg Philip Telemann \n\n\n \n-Concertino en Ré M MWV 8.15 Johan Melchior Mölter \n\n\n \n-Concertino en Ré M MWV 8.11 Johan Melchior Mölter \n\n\n \n-Sonate en Trio en Ré M Wilhelm Friedman Bach \n\n\n \n\n\n\n \n\n\n\n\n\n \n\n\n\n \nLes musiciens :  \n\n\n \nCatherine THINON\, Elodie VIROT\, traversos \n\n\n \nEric VILLEVIERE\, Lucien JULIEN-LAFERRIERE\, cors naturels \n\n\n \nJean GAUDY\, violoncelle \n\n\n \nVirginie PILLOT\, clavecin \n\n\n  
URL:https://lesgalantscaprices.fr/event/concert-sonneries-baroques/
LOCATION:Rue de l’Église Saint-Julien\, Église romane St Julien 71240 Sennecey-le-Grand
ORGANIZER;CN="Association%20Sennecey%20Patrimoine":MAILTO:https://www.sennecey-patrimoine.fr/index.php
END:VEVENT
END:VCALENDAR